BEGIN:VCALENDAR
VERSION:2.0
PRODID:-//Buena Vista Baptist Church - ECPv6.15.20//NONSGML v1.0//EN
CALSCALE:GREGORIAN
METHOD:PUBLISH
X-WR-CALNAME:Buena Vista Baptist Church
X-ORIGINAL-URL:https://buenavistabaptist.com
X-WR-CALDESC:Events for Buena Vista Baptist Church
REFRESH-INTERVAL;VALUE=DURATION:PT1H
X-Robots-Tag:noindex
X-PUBLISHED-TTL:PT1H
BEGIN:VTIMEZONE
TZID:America/Detroit
BEGIN:DAYLIGHT
TZOFFSETFROM:-0500
TZOFFSETTO:-0400
TZNAME:EDT
DTSTART:20240310T070000
END:DAYLIGHT
BEGIN:STANDARD
TZOFFSETFROM:-0400
TZOFFSETTO:-0500
TZNAME:EST
DTSTART:20241103T060000
END:STANDARD
BEGIN:DAYLIGHT
TZOFFSETFROM:-0500
TZOFFSETTO:-0400
TZNAME:EDT
DTSTART:20250309T070000
END:DAYLIGHT
BEGIN:STANDARD
TZOFFSETFROM:-0400
TZOFFSETTO:-0500
TZNAME:EST
DTSTART:20251102T060000
END:STANDARD
BEGIN:DAYLIGHT
TZOFFSETFROM:-0500
TZOFFSETTO:-0400
TZNAME:EDT
DTSTART:20260308T070000
END:DAYLIGHT
BEGIN:STANDARD
TZOFFSETFROM:-0400
TZOFFSETTO:-0500
TZNAME:EST
DTSTART:20261101T060000
END:STANDARD
END:VTIMEZONE
BEGIN:VEVENT
DTSTART;TZID=America/Detroit:20251122T083000
DTEND;TZID=America/Detroit:20251122T083000
DTSTAMP:20260422T003953
CREATED:20251113T220443Z
LAST-MODIFIED:20251113T220501Z
UID:10001310-1763800200-1763800200@buenavistabaptist.com
SUMMARY:Men's Bible Study Breakfast
DESCRIPTION:
URL:https://buenavistabaptist.com/event/mens-bible-study-breakfast/
LOCATION:Buena Vista Baptist Church\, 3389 Kennedy Bridge Rd.\, Lancaster\, 40444\, United States
ATTACH;FMTTYPE=image/jpeg:https://buenavistabaptist.com/wp-content/uploads/2025/11/Mens-Breakfast.001.jpeg
END:VEVENT
END:VCALENDAR