BEGIN:VCALENDAR
VERSION:2.0
PRODID:-//Buena Vista Baptist Church - ECPv6.15.20//NONSGML v1.0//EN
CALSCALE:GREGORIAN
METHOD:PUBLISH
X-WR-CALNAME:Buena Vista Baptist Church
X-ORIGINAL-URL:https://buenavistabaptist.com
X-WR-CALDESC:Events for Buena Vista Baptist Church
REFRESH-INTERVAL;VALUE=DURATION:PT1H
X-Robots-Tag:noindex
X-PUBLISHED-TTL:PT1H
BEGIN:VTIMEZONE
TZID:America/Detroit
BEGIN:DAYLIGHT
TZOFFSETFROM:-0500
TZOFFSETTO:-0400
TZNAME:EDT
DTSTART:20240310T070000
END:DAYLIGHT
BEGIN:STANDARD
TZOFFSETFROM:-0400
TZOFFSETTO:-0500
TZNAME:EST
DTSTART:20241103T060000
END:STANDARD
BEGIN:DAYLIGHT
TZOFFSETFROM:-0500
TZOFFSETTO:-0400
TZNAME:EDT
DTSTART:20250309T070000
END:DAYLIGHT
BEGIN:STANDARD
TZOFFSETFROM:-0400
TZOFFSETTO:-0500
TZNAME:EST
DTSTART:20251102T060000
END:STANDARD
BEGIN:DAYLIGHT
TZOFFSETFROM:-0500
TZOFFSETTO:-0400
TZNAME:EDT
DTSTART:20260308T070000
END:DAYLIGHT
BEGIN:STANDARD
TZOFFSETFROM:-0400
TZOFFSETTO:-0500
TZNAME:EST
DTSTART:20261101T060000
END:STANDARD
END:VTIMEZONE
BEGIN:VEVENT
DTSTART;VALUE=DATE:20251109
DTEND;VALUE=DATE:20251110
DTSTAMP:20260421T224946
CREATED:20251028T182028Z
LAST-MODIFIED:20251028T182028Z
UID:10001307-1762646400-1762732799@buenavistabaptist.com
SUMMARY:Forward Together Sunday - First Worship Service in the FLC
DESCRIPTION:
URL:https://buenavistabaptist.com/event/forward-together-sunday-first-worship-service-in-the-flc/
LOCATION:Buena Vista Baptist Church\, 3389 Kennedy Bridge Rd.\, Lancaster\, 40444\, United States
CATEGORIES:Events
ATTACH;FMTTYPE=image/png:https://buenavistabaptist.com/wp-content/uploads/2025/10/Forward-Together-Sunday.png
END:VEVENT
END:VCALENDAR